Workbook

Sheet Instruks

Sheet Stasjonsbeskrivelser
A1: Dato | B1: Vassdrag/elv | C1: Stasjon nr. | D1: Stasjonsnavn | E1: Alternativt navn | G1: Koordinater | I1: Lengde | J1: Bredde | K1: Areal (m²) | L1: Del av elv | M1: Vær | N1: Vannføring | O1: Sikt | P1: Habitat | Q1: Substrat | R1: Begroing | S1: Vannhastighet | T1: Habitatklasse (ørret) | V1: Bilde nr. | W1: Andre arter | X1: Tetthet andre arter | Y1: Hvem el-fisket? | Z1: Andre merknader
G2: Koordinatsystem: | H2: UTM 33
G3: Øst/Lengdegrad (X) | H3: Nord/Breddegrad (Y) | T3: Nå | U3: Naturlig
A4: 44796 | B4: Vasselva | C4: 1 | D4: Vasselva 1 | K4: 100 | M4: Lettskyet vær | N4: Moderat vannføring | O4: Moderat til god | P4: Manglende kantsone, ellers fint | Q4: Variert stein og grus | R4: Lite | S4: Lav/moderat | W4: Ørekyt (10 stk) | X4: Moderat | Y4: HL | Z4: En del finneskader, sannsynligvis pga flommen i august

Sheet Individdata
A1: Løpenummer | B1: Vassdrag/elv | C1: Dato | D1: År | E1: Art | F1: Stasjon nr. | G1: Stasjonsnavn | H1: Areal (m²) | I1: Omgang | J1: Lengde (mm) | K1: Aldersklasse | L1: Andre merknader
B2: Vasselva | C2: 44796 | D2: 2022 | E2: ørret | F2: 5 | G2: Vasselva 1 | H2: 100 | I2: 1 | J2: 170 | K2: =IF(J2<=95, "årsyngel", "eldre") -> eldre
B3: Vasselva | C3: 44796 | D3: 2022 | E3: ørret | F3: 5 | G3: Vasselva 1 | H3: 100 | I3: 1 | J3: 110 | K3: =IF(J3<=95, "årsyngel", "eldre") -> eldre
B4: Vasselva | C4: 44796 | D4: 2022 | E4: ørret | F4: 5 | G4: Vasselva 1 | H4: 100 | I4: 1 | J4: 73 | K4: =IF(J4<=95, "årsyngel", "eldre") -> årsyngel
B5: Vasselva | C5: 44796 | D5: =YEAR(C5) -> 2022 | E5: ørret | F5: 5 | G5: Vasselva 1 | H5: 100 | I5: 1 | J5: 110 | K5: =IF(J5<=95, "årsyngel", "eldre") -> eldre
B6: Vasselva | C6: 44796 | D6: =YEAR(C6) -> 2022 | E6: ørret | F6: 5 | G6: Vasselva 1 | H6: 100 | I6: 1 | J6: 70 | K6: =IF(J6<=95, "årsyngel", "eldre") -> årsyngel
B7: Vasselva | C7: 44796 | D7: =YEAR(C7) -> 2022 | E7: ørret | F7: 5 | G7: Vasselva 1 | H7: 100 | I7: 1 | J7: 112 | K7: =IF(J7<=95, "årsyngel", "eldre") -> eldre
B8: Vasselva | C8: 44796 | D8: =YEAR(C8) -> 2022 | E8: ørret | F8: 5 | G8: Vasselva 1 | H8: 100 | I8: 1 | J8: 81 | K8: =IF(J8<=95, "årsyngel", "eldre") -> årsyngel
B9: Vasselva | C9: 44796 | D9: =YEAR(C9) -> 2022 | E9: ørret | F9: 5 | G9: Vasselva 1 | H9: 100 | I9: 1 | J9: 72 | K9: =IF(J9<=95, "årsyngel", "eldre") -> årsyngel
B10: Vasselva | C10: 44796 | D10: =YEAR(C10) -> 2022 | E10: ørret | F10: 5 | G10: Vasselva 1 | H10: 100 | I10: 1 | J10: 80 | K10: =IF(J10<=95, "årsyngel", "eldre") -> årsyngel
B11: Vasselva | C11: 44796 | D11: =YEAR(C11) -> 2022 | E11: ørret | F11: 5 | G11: Vasselva 1 | H11: 100 | I11: 1 | J11: 61 | K11: =IF(J11<=95, "årsyngel", "eldre") -> årsyngel
B12: Vasselva | C12: 44796 | D12: =YEAR(C12) -> 2022 | E12: ørret | F12: 5 | G12: Vasselva 1 | H12: 100 | I12: 1 | J12: 65 | K12: =IF(J12<=95, "årsyngel", "eldre") -> årsyngel
B13: Vasselva | C13: 44796 | D13: =YEAR(C13) -> 2022 | E13: ørret | F13: 5 | G13: Vasselva 1 | H13: 100 | I13: 1 | J13: 75 | K13: =IF(J13<=95, "årsyngel", "eldre") -> årsyngel
B14: Vasselva | C14: 44796 | D14: =YEAR(C14) -> 2022 | E14: ørret | F14: 5 | G14: Vasselva 1 | H14: 100 | I14: 1 | J14: 91 | K14: =IF(J14<=95, "årsyngel", "eldre") -> årsyngel
B15: Vasselva | C15: 44796 | D15: =YEAR(C15) -> 2022 | E15: ørret | F15: 5 | G15: Vasselva 1 | H15: 100 | I15: 1 | J15: 79 | K15: =IF(J15<=95, "årsyngel", "eldre") -> årsyngel
B16: Vasselva | C16: 44796 | D16: =YEAR(C16) -> 2022 | E16: ørret | F16: 5 | G16: Vasselva 1 | H16: 100 | I16: 1 | J16: 66 | K16: =IF(J16<=95, "årsyngel", "eldre") -> årsyngel
... B41: Vasselva | C41: 44796 | D41: =YEAR(C41) -> 2022 | E41: ørret | F41: 5 | G41: Vasselva 1 | H41: 100 | I41: 3 | J41: 78 | K41: =IF(J41<=95, "årsyngel", "eldre") -> årsyngel
J44: Antall 0+
J45: Antall eldre
L870: Ca. lengde
L1013: Ca. lengde
L1149: Ca. lengde
L1184: Ca. lengde

Sheet Tetthetsestimering
D1: 2022
A2: Stasjon nr. | C2: =Stasjonsbeskrivelser!C4 -> 1
A3: Stasjonsnavn | C3: =Stasjonsbeskrivelser!D4 -> Vasselva 1
A4: Areal (m²) | C4: 100 | D4: 100 | E4: =C4 -> 100
A5: Totalt/0+/eldre | C5: Totalt | D5: 0+ | E5: Eldre
A6: c1=Antall fisk ved første gangs overfiske | C6: 0 | D6: 0 | E6: =C6-D6 -> 0
A7: c2=Antall fisk ved andre gangs overfiske | C7: 0 | D7: 0 | E7: =C7-D7 -> 0
A8: c3=Antall fisk ved tredje gangs overfiske | C8: 0 | D8: 0 | E8: =C8-D8 -> 0
A9: T=Totalt antall fisk | C9: =SUM(C6:C8) -> 0 | D9: =SUM(D6:D8) -> 0 | E9: =SUM(E6:E8) -> 0
A11: 3 overfisker
A12: A=2c1+c2 | D12: =D6*2+D7 -> 0 | E12: =E6*2+E7 -> 0
A13: y=bestand | C13: =D13+E13 -> 0 | D13: =IF(D9=0,0,(((6*(POWER(D12,2)))-(3*D12*D9)-(POWER(D9,2))+(D9*(SQRT((POWER(D9,2))+(6*D12*D9)-(3*(POWER(D12,2)))))))/(18*(D12-D9)))) -> 0 | E13: =IF(E9=0,0,(((6*(POWER(E12,2)))-(3*E12*E9)-(POWER(E9,2))+(E9*(SQRT((POWER(E9,2))+(6*E12*E9)-(3*(POWER(E12,2)))))))/(18*(E12-E9)))) -> 0
A14: p=fangbarhet | D14: =(((3*D12)-D9-(SQRT((POWER(D9,2))+(6*D12*D9)-(3*(POWER(D12,2))))))/(2*D12)) -> #DIV/0! | E14: =(((3*E12)-E9-(SQRT((POWER(E9,2))+(6*E12*E9)-(3*(POWER(E12,2))))))/(2*E12)) -> #DIV/0!
A15: q=1-p | D15: =1-D14 -> #DIV/0! | E15: =1-E14 -> #DIV/0!
A16: V(y)=Varians (per 100 m²) | C16: =D16+E16 -> 0 | D16: =(IF(D9=0,0,(((D13*(1-(POWER(D15,3)))*(POWER(D15,3)))/((POWER((1-(POWER(D15,3))),2))-((POWER((D14*3),2))*(POWER(D15,2))))))))*(100/D4)^2 -> 0 | E16: =(IF(E9=0,0,(((E13*(1-(POWER(E15,3)))*(POWER(E15,3)))/((POWER((1-(POWER(E15,3))),2))-((POWER((E14*3),2))*(POWER(E15,2))))))))*(100/E4)^2 -> 0
A17: SE(y)=standardfeil (per 100 m²) | C17: =(SQRT(C16)) -> 0 | D17: =(SQRT(D16)) -> 0 | E17: =(SQRT(E16)) -> 0
A18: 2*SE(y) (per 100 m²) | C18: =C17*2 -> 0 | D18: =D17*2 -> 0 | E18: =E17*2 -> 0
A19: Tetthet (antall per 100 m²) | C19: =C13/C4*100 -> 0 | D19: =D13/D4*100 -> 0 | E19: =E13/E4*100 -> 0
A21: 2 overfisker
A22: y=bestand | C22: =D22+E22 -> 0 | D22: =IF(D9=0,0,(D6^2)/(D6-D7)) -> 0 | E22: =IF(E9=0,0,(E6^2)/(E6-E7)) -> 0
A23: p=fangbarhet | D23: =1-D7/D6 -> #DIV/0! | E23: =1-E7/E6 -> #DIV/0!
A24: q=1-p | D24: =1-D23 -> #DIV/0! | E24: =1-E23 -> #DIV/0!
A25: V(y)=Varians (per 100 m²) | C25: =D25+E25 -> 0 | D25: =(IF(D9=0,0,(D6^2)*(D7^2)*(D6+D7)/(D6-D7)^4))*(100/D4)^2 -> 0 | E25: =(IF(E9=0,0,(E6^2)*(E7^2)*(E6+E7)/(E6-E7)^4))*(100/E4)^2 -> 0
A26: SE(y)=standardfeil (per 100 m²) | C26: =SQRT(C25) -> 0 | D26: =SQRT(D25) -> 0 | E26: =SQRT(E25) -> 0
A27: 2*SE(y) (per 100 m²) | C27: =C26*2 -> 0 | D27: =D26*2 -> 0 | E27: =E26*2 -> 0
A28: Tetthet (antall per 100 m²) | C28: =C22/C4*100 -> 0 | D28: =D22/D4*100 -> 0 | E28: =E22/E4*100 -> 0
A30: 1 overfiske
A31: p=fangbarhet (0+) | B31: 0.45
A32: p=fangbarhet (eldre) | B32: 0.62
A33: y=bestand | C33: =D33+E33 -> 0 | D33: =D6/$B$31 -> 0 | E33: =E6/$B$32 -> 0
A34: Tetthet (antall per 100 m²) | C34: =C33/C4*100 -> 0 | D34: =D33/D4*100 -> 0 | E34: =E33/E4*100 -> 0
E40: Tetthet totalt | F40: Tetthet 0+
C41: 2022 | E41: =IF(C8="",IF(C7="",C34,C28),C19) -> 0 | F41: =IF(D8="",IF(D7="",D34,D28),D19) -> 0

Sheet Resultater
A1: År | B1: Stasjon | C1: Areal | D1: Fangst totalt | G1: Fangst 0+ | J1: Tetthet totalt | K1: 2SE | L1: Tetthet 0+ | M1: 2SE
D2: c1 | E2: c2 | F2: c3 | G2: c1 | H2: c2 | I2: c3
A3: 2022 | B3: =Tetthetsestimering!C3 -> Vasselva 1 | C3: =Tetthetsestimering!C4 -> 100 | D3: =Tetthetsestimering!C6 -> 0 | E3: =Tetthetsestimering!C7 -> 0 | F3: =Tetthetsestimering!C8 -> 0 | G3: =Tetthetsestimering!D6 -> 0 | H3: =Tetthetsestimering!D7 -> 0 | I3: =Tetthetsestimering!D8 -> 0 | J3: =Tetthetsestimering!E41 -> 0 | L3: =Tetthetsestimering!F41 -> 0

Sheet Lengdefordeling, Vasselva
A1: Intervall | B1: Alle år | C1: 2022 | D1: 2023 | E1: 2024 | F1: 2025 | G1: 2026 | H1: 2027 | I1: 2028 | J1: 2029
A2: 0-4 | B2: =SUM(C2:J2) -> 0 | C2: 0 | D2: 0 | E2: 0 | F2: 0 | G2: 0 | H2: 0 | I2: 0 | J2: 0
A3: 5-9 | B3: =SUM(C3:J3) -> 0 | C3: 0 | D3: 0 | E3: 0 | F3: 0 | G3: 0 | H3: 0 | I3: 0 | J3: 0
A4: 10-14 | B4: =SUM(C4:J4) -> 0 | C4: 0 | D4: 0 | E4: 0 | F4: 0 | G4: 0 | H4: 0 | I4: 0 | J4: 0
A5: 15-19 | B5: =SUM(C5:J5) -> 0 | C5: 0 | D5: 0 | E5: 0 | F5: 0 | G5: 0 | H5: 0 | I5: 0 | J5: 0
A6: 20-24 | B6: =SUM(C6:J6) -> 0 | C6: 0 | D6: 0 | E6: 0 | F6: 0 | G6: 0 | H6: 0 | I6: 0 | J6: 0
A7: 25-29 | B7: =SUM(C7:J7) -> 0 | C7: 0 | D7: 0 | E7: 0 | F7: 0 | G7: 0 | H7: 0 | I7: 0 | J7: 0
A8: 30-34 | B8: =SUM(C8:J8) -> 0 | C8: 0 | D8: 0 | E8: 0 | F8: 0 | G8: 0 | H8: 0 | I8: 0 | J8: 0
A9: 35-39 | B9: =SUM(C9:J9) -> 0 | C9: 0 | D9: 0 | E9: 0 | F9: 0 | G9: 0 | H9: 0 | I9: 0 | J9: 0
A10: 40-44 | B10: =SUM(C10:J10) -> 0 | C10: 0 | D10: 0 | E10: 0 | F10: 0 | G10: 0 | H10: 0 | I10: 0 | J10: 0
A11: 45-49 | B11: =SUM(C11:J11) -> 0 | C11: 0 | D11: 0 | E11: 0 | F11: 0 | G11: 0 | H11: 0 | I11: 0 | J11: 0
A12: 50-54 | B12: =SUM(C12:J12) -> 0 | C12: 0 | D12: 0 | E12: 0 | F12: 0 | G12: 0 | H12: 0 | I12: 0 | J12: 0
A13: 55-59 | B13: =SUM(C13:J13) -> 0 | C13: 0 | D13: 0 | E13: 0 | F13: 0 | G13: 0 | H13: 0 | I13: 0 | J13: 0
... A63: Mer | B63: =SUM(C63:J63) -> 0 | C63: 0 | D63: 0 | E63: 0 | F63: 0 | G63: 0 | H63: 0 | I63: 0 | J63: 0
